BEGIN:VCALENDAR
VERSION:2.0
PRODID:-// eRoom plugin //NONSGML v1.0//EN
CALSCALE:GREGORIAN
BEGIN:VEVENT
UID:eRoom-1776760530
SUMMARY:Live Class
LOCATION:
DESCRIPTION1. Introduction 2. what's needed to be improved 3. approximate time required 5. ready to serve 6. Q & A 7. closing
URL;VALUE=URI:https://wordpress.org/plugins/eroom-zoom-meetings-webinar/
DTSTART:20221110T183000Z
DTEND:20221110T193000Z
DTSTAMP:20260421T083530Z
BEGIN:VALARM
ACTION:DISPLAY
RIGGER;RELATED=START:-PT00H15M00S
BEGIN:VALARM
END:VEVENT
END:VCALENDAR